BEGIN:VCALENDAR
VERSION:2.0
PRODID:-//wp-events-plugin.com//7.2.3.1//EN
TZID:Europe/Berlin
X-WR-TIMEZONE:Europe/Berlin
BEGIN:VEVENT
UID:38@tkszeit.de
DTSTART;TZID=Europe/Berlin:20250920T140000
DTEND;TZID=Europe/Berlin:20250920T160000
DTSTAMP:20250917T184517Z
URL:https://tkszeit.de/events/vernissage/
SUMMARY:Vernissage ...
DESCRIPTION:... der Künstlergruppe dimension 14 zur Ausstellung "Feuerwach
 e 17"
LOCATION:Alte Feuerwache\, Dorfplatz 2\, Stahnsdorf\, 14532\, Deutschland
X-APPLE-STRUCTURED-LOCATION;VALUE=URI;X-ADDRESS=Dorfplatz 2\, Stahnsdorf\, 
 14532\, Deutschland;X-APPLE-RADIUS=100;X-TITLE=Alte Feuerwache:geo:0,0
END:VEVENT
BEGIN:VTIMEZONE
TZID:Europe/Berlin
X-LIC-LOCATION:Europe/Berlin
BEGIN:DAYLIGHT
DTSTART:20250330T030000
TZOFFSETFROM:+0100
TZOFFSETTO:+0200
TZNAME:CEST
END:DAYLIGHT
END:VTIMEZONE
END:VCALENDAR