BEGIN:VCALENDAR
VERSION:2.0
PRODID:-//wp-events-plugin.com//7.2.3.1//EN
TZID:Europe/Berlin
X-WR-TIMEZONE:Europe/Berlin
BEGIN:VEVENT
UID:26@tkszeit.de
DTSTART;TZID=Europe/Berlin:20250919T180000
DTEND;TZID=Europe/Berlin:20250919T200000
DTSTAMP:20250825T165943Z
URL:https://tkszeit.de/events/vernissage-lichtblicke/
SUMMARY:Vernissage "LichtBlicke"
DESCRIPTION:Ausstellungseröffnung von Thomas Freundner ist ein Multitalen
 t: Seit seinem Studium an der Hochschule für Bildende Künste arbeitet er
  freischaffend als Maler\, Drehbuchautor und Filmregisseur. Für zahlreich
 e Fernsehfilme schrieb er das Drehbuch oder führte Regie\, wie beispielsw
 eise bei ARD-Tatorten aus Berlin\, Leipzig\, München\, Stuttgart. Für di
 e Frankfurter Tatort-Folge „Herzversagen“ erhielt er den Grimmepreis. 
 Gleichzeitig widmet er sich der Malerei: seine Ölgemälde sowie die tägl
 ichen Skizzen entstehen meist Pleinair und zeigen Landschaften\, Stadtland
 schaften und seine Liebe zur Ostsee. Die Werke von Thomas Freundner könne
 n bis zum 9. Januar 2026 im Erd- und Obergeschoss des Rathauses bewundert 
 werden.\n\nDer Eintritt ist frei!
CATEGORIES:Kunst &amp; Kultur
LOCATION:Neues Rathaus\, Marktplatz 1-3\, Teltow\, 14513\, Deutschland
X-APPLE-STRUCTURED-LOCATION;VALUE=URI;X-ADDRESS=Marktplatz 1-3\, Teltow\, 1
 4513\, Deutschland;X-APPLE-RADIUS=100;X-TITLE=Neues Rathaus:geo:0,0
END:VEVENT
BEGIN:VTIMEZONE
TZID:Europe/Berlin
X-LIC-LOCATION:Europe/Berlin
BEGIN:DAYLIGHT
DTSTART:20250330T030000
TZOFFSETFROM:+0100
TZOFFSETTO:+0200
TZNAME:CEST
END:DAYLIGHT
END:VTIMEZONE
END:VCALENDAR