BEGIN:VCALENDAR
VERSION:2.0
PRODID:-//wp-events-plugin.com//7.2.3.1//EN
TZID:Europe/Berlin
X-WR-TIMEZONE:Europe/Berlin
BEGIN:VEVENT
UID:9@tkszeit.de
DTSTART;TZID=Europe/Berlin:20250809T220000
DTEND;TZID=Europe/Berlin:20250809T235900
DTSTAMP:20250802T162715Z
URL:https://tkszeit.de/events/tks-kinosommer-2025-film-5-v-6/
SUMMARY:TKS-Kinosommer 2025 – Film 5 v. 6
DESCRIPTION:„Bohemian Rhapsody“\n\nDrama\, USA/GB\, 2012 | Regie: Bryan
  Singer\, Dexter Fletcher\nMit Rami Malek\, Lucy Boynton\, Gwilym Lee u.v
 .a.\n\nEintritt: frei
LOCATION:Stubenrauchsaal\, Neues Rathaus\, Marktplatz 1-3\, Teltow\, 14513\
 , Deutschland
X-APPLE-STRUCTURED-LOCATION;VALUE=URI;X-ADDRESS=Neues Rathaus\, Marktplatz 
 1-3\, Teltow\, 14513\, Deutschland;X-APPLE-RADIUS=100;X-TITLE=Stubenrauchs
 aal:geo:0,0
END:VEVENT
BEGIN:VTIMEZONE
TZID:Europe/Berlin
X-LIC-LOCATION:Europe/Berlin
BEGIN:DAYLIGHT
DTSTART:20250330T030000
TZOFFSETFROM:+0100
TZOFFSETTO:+0200
TZNAME:CEST
END:DAYLIGHT
END:VTIMEZONE
END:VCALENDAR