BEGIN:VCALENDAR
VERSION:2.0
PRODID:-//wp-events-plugin.com//7.2.3.1//EN
TZID:Europe/Berlin
X-WR-TIMEZONE:Europe/Berlin
BEGIN:VEVENT
UID:6@tkszeit.de
DTSTART;TZID=Europe/Berlin:20250719T220000
DTEND;TZID=Europe/Berlin:20250719T235900
DTSTAMP:20250714T152221Z
URL:https://tkszeit.de/events/tks-kinosommer-%e2%94%80-film-2-von-6/
SUMMARY:TKS-Kinosommer ─ Film 2 von 6
DESCRIPTION:„Im Rausch der Tiefe“\n\nDrama\, Frankreich\, 1988\n\nFür 
 ein Imbiss- und Getränkeangebot ist gesorgt\, der Eintritt ist frei.\n\nD
 a sich am Veranstaltungstag witterungsbedingte Änderungen ergeben können
 \, werden die Gäste gebeten\, diesbezüglich aufmerksam die Kommunikation
 skanäle der jeweiligen Kommune zu verfolgen (Website\, Social Media).
LOCATION:Innenhof Rathaus\, Adolf-Grimme-Ring 10\, Kleinmachnow\, 14532\, D
 eutschland
X-APPLE-STRUCTURED-LOCATION;VALUE=URI;X-ADDRESS=Adolf-Grimme-Ring 10\, Klei
 nmachnow\, 14532\, Deutschland;X-APPLE-RADIUS=100;X-TITLE=Innenhof Rathaus
 :geo:0,0
END:VEVENT
BEGIN:VTIMEZONE
TZID:Europe/Berlin
X-LIC-LOCATION:Europe/Berlin
BEGIN:DAYLIGHT
DTSTART:20250330T030000
TZOFFSETFROM:+0100
TZOFFSETTO:+0200
TZNAME:CEST
END:DAYLIGHT
END:VTIMEZONE
END:VCALENDAR