BEGIN:VCALENDAR
VERSION:2.0
PRODID:-//wp-events-plugin.com//7.2.3.1//EN
TZID:Europe/Berlin
X-WR-TIMEZONE:Europe/Berlin
BEGIN:VEVENT
UID:7@tkszeit.de
DTSTART;TZID=Europe/Berlin:20250726T220000
DTEND;TZID=Europe/Berlin:20250726T235900
DTSTAMP:20250714T152535Z
URL:https://tkszeit.de/events/tks-kinosommer-%e2%94%80-film-2-von-6-2/
SUMMARY:TKS-Kinosommer ─ Film 2 von 6
DESCRIPTION:„Pitch Perfect“\n\nFilmkomödie\, USA\, 2012\n\nFür ein Im
 biss- und Getränkeangebot ist gesorgt\, der Eintritt ist frei.\n\nDa sich
  am Veranstaltungstag witterungsbedingte Änderungen ergeben können\, wer
 den die Gäste gebeten\, diesbezüglich aufmerksam die Kommunikationskanä
 le der jeweiligen Kommune zu verfolgen (Website\, Social Media).
LOCATION:Stubenrauchsaal\, Neues Rathaus\, Marktplatz 1-3\, Teltow\, 14513\
 , Deutschland
X-APPLE-STRUCTURED-LOCATION;VALUE=URI;X-ADDRESS=Neues Rathaus\, Marktplatz 
 1-3\, Teltow\, 14513\, Deutschland;X-APPLE-RADIUS=100;X-TITLE=Stubenrauchs
 aal:geo:0,0
END:VEVENT
BEGIN:VTIMEZONE
TZID:Europe/Berlin
X-LIC-LOCATION:Europe/Berlin
BEGIN:DAYLIGHT
DTSTART:20250330T030000
TZOFFSETFROM:+0100
TZOFFSETTO:+0200
TZNAME:CEST
END:DAYLIGHT
END:VTIMEZONE
END:VCALENDAR