BEGIN:VCALENDAR
VERSION:2.0
PRODID:-//wp-events-plugin.com//7.2.3.1//EN
TZID:Europe/Berlin
X-WR-TIMEZONE:Europe/Berlin
BEGIN:VEVENT
UID:19@tkszeit.de
DTSTART;TZID=Europe/Berlin:20251003T140000
DTEND;TZID=Europe/Berlin:20251003T235900
DTSTAMP:20250820T122521Z
URL:https://tkszeit.de/events/teltower-stadtfest-tag-1/
SUMMARY:Teltower Stadtfest (Tag 1)
DESCRIPTION:35 Jahre Deutsche Einheit I 20 Jahre Festgelände im TechnoTerr
 ain Teltow\n\nFreitag\, 03.10.2025\, 14 – 24 Uhr\nSamstag\, 04.10.2025\,
  12 – 24 Uhr\nSonntag\, 05.10.2025\, 12 – 22 Uhr\n\nWo: Rheinstraße\,
  14513 Teltow – im größten innerstädtischen Gewerbepark des Landes Br
 andenburg\n\nDer Eintritt ist frei!\n\nDas Teltower Stadtfest vom 3. – 5
 . Oktober 2025\, ist das größte Fest im Land Brandenburg zum Tag der deu
 tschen Einheit\, mit ganztägiger Livemusik und Konzerthighlights auf zwei
  Bühnen\, großem Familiengarten mit vielen kostenfreien Mitmachaktionen 
 für die ganze Familie\, separatem Themenbereich der Info- und Karrieremei
 le\, Markt der Möglichkeiten\, Genießergasse mit kulinarischen Streetfoo
 d-Highlights\, Erlebnismeile mit Kunsthandwerkern\, Geschenkideen und Prom
 otions\, großer Partyarena mit Schaustellerattraktionen und vielem mehr. 
 Die Location befindet sich in der Rheinstraße\, mitten im größten inner
 städtischen Gewerbepark des Landes Brandenburg.\nIn diesem Jahr feiern wi
 r ein Doppel-Jubiläum 35 Jahre Deutsche Einheit – 20 Jahre Festgelände
  im TechnoTerrain Teltow.\n\nWeitere Infos unter www.teltow-stadtfest.de\n
 \nKontakt zur ausführenden Agentur brando:\nwww.brando-werbeagentur.de
CATEGORIES:Feste/Feiern
LOCATION:TechnoTerrain Teltow\, Rheinstraße\, Teltow\, 14512\, Deutschland
X-APPLE-STRUCTURED-LOCATION;VALUE=URI;X-ADDRESS=Rheinstraße\, Teltow\, 145
 12\, Deutschland;X-APPLE-RADIUS=100;X-TITLE=TechnoTerrain Teltow:geo:0,0
END:VEVENT
BEGIN:VTIMEZONE
TZID:Europe/Berlin
X-LIC-LOCATION:Europe/Berlin
BEGIN:DAYLIGHT
DTSTART:20250330T030000
TZOFFSETFROM:+0100
TZOFFSETTO:+0200
TZNAME:CEST
END:DAYLIGHT
END:VTIMEZONE
END:VCALENDAR