BEGIN:VCALENDAR
VERSION:2.0
PRODID:-//wp-events-plugin.com//7.2.3.1//EN
TZID:Europe/Berlin
X-WR-TIMEZONE:Europe/Berlin
BEGIN:VEVENT
UID:2@tkszeit.de
DTSTART;TZID=Europe/Berlin:20250917T200000
DTEND;TZID=Europe/Berlin:20250917T220000
DTSTAMP:20250714T144341Z
URL:https://tkszeit.de/events/teltow-singt-das-mitsing-konzert-2/
SUMMARY:Teltow singt – Das Mitsing-Konzert
DESCRIPTION:Die SingInTown-Band begleitet Singbegeisterte\n\nDie Live-Band 
 „SingInTown“ begleitet die Teilnehmenden durch den Abend und die Songt
 exte werden mit einem Beamer an die Leinwand geworfen. Hier steht der Spa
 ß am gemeinsamen Singen ganz klar im Fokus\, denn Vorkenntnisse sind nich
 t nötig – jeder ist herzlich willkommen. Auch das große Repertoire lä
 sst keine Wünsche offen\, es reicht von Volksliedern über Schlager bis h
 in zu Rock und Pop Songs.\n\nKarten: 10 € / 8 € erm. (Nur Abendkasse! 
 Um vorherige Anmeldung wird gebeten.)\n\nKontakt: Kerstin Hasenheyer\, 033
 28/4781249\, E-Mail: k.hasenheyer@teltow.de\n\nWeitere Termine:\n\n15. Okt
 ober 2025 um 20 Uhr\n19. November 2025 um 20 Uhr\n17. Dezember 2025 um 20 
 Uhr
LOCATION:Stubenrauchsaal\, Neues Rathaus\, Marktplatz 1-3\, Teltow\, 14513\
 , Deutschland
X-APPLE-STRUCTURED-LOCATION;VALUE=URI;X-ADDRESS=Neues Rathaus\, Marktplatz 
 1-3\, Teltow\, 14513\, Deutschland;X-APPLE-RADIUS=100;X-TITLE=Stubenrauchs
 aal:geo:0,0
END:VEVENT
BEGIN:VTIMEZONE
TZID:Europe/Berlin
X-LIC-LOCATION:Europe/Berlin
BEGIN:DAYLIGHT
DTSTART:20250330T030000
TZOFFSETFROM:+0100
TZOFFSETTO:+0200
TZNAME:CEST
END:DAYLIGHT
END:VTIMEZONE
END:VCALENDAR