BEGIN:VCALENDAR
VERSION:2.0
PRODID:-//wp-events-plugin.com//7.2.3.1//EN
TZID:Europe/Berlin
X-WR-TIMEZONE:Europe/Berlin
BEGIN:VEVENT
UID:59@tkszeit.de
DTSTART;TZID=Europe/Berlin:20260425T110000
DTEND;TZID=Europe/Berlin:20260426T180000
DTSTAMP:20260425T092446Z
URL:https://tkszeit.de/events/tage-der-offenen-tuer-beim-ruderclub/
SUMMARY:Tage der offenen Tür beim Ruderclub
DESCRIPTION:Der Ruderclub lädt zum Tag der offenen Tür!\n\nRuderclub KST\
 , Bäkepromenade\n\n– Informationen über das Rudern im Club für Erwach
 sene jeden Alters und Kinder ab 10 Jahren\n– Proberudern für alle\, auc
 h wenn sie noch nie in einem Boot gesessen haben\n– Kaffee\, Kuchen\, Gr
 ill\, Salate\, Getränke\n\nAlle Interessierten sind herzlich eingeladen!
CATEGORIES:Sport
LOCATION:Bäkepromenade\, Kleinmachnow\, Deutschland
X-APPLE-STRUCTURED-LOCATION;VALUE=URI;X-ADDRESS=Kleinmachnow\, Deutschland;
 X-APPLE-RADIUS=100;X-TITLE=Bäkepromenade:geo:0,0
END:VEVENT
BEGIN:VTIMEZONE
TZID:Europe/Berlin
X-LIC-LOCATION:Europe/Berlin
BEGIN:DAYLIGHT
DTSTART:20260329T030000
TZOFFSETFROM:+0100
TZOFFSETTO:+0200
TZNAME:CEST
END:DAYLIGHT
END:VTIMEZONE
END:VCALENDAR