BEGIN:VCALENDAR
VERSION:2.0
PRODID:-//wp-events-plugin.com//7.2.3.1//EN
TZID:Europe/Berlin
X-WR-TIMEZONE:Europe/Berlin
BEGIN:VEVENT
UID:28@tkszeit.de
DTSTART;TZID=Europe/Berlin:20250913T140000
DTEND;TZID=Europe/Berlin:20250913T220000
DTSTAMP:20250825T201202Z
URL:https://tkszeit.de/events/stahnsdorfer-familienfest-kunstallee/
SUMMARY:Stahnsdorfer Familienfest + Kunstallee
DESCRIPTION:14:00 Uhr - 22:00 Uhr: Familienfest auf dem Dorfplatz (an der K
 irche).\n\n12:00 Uhr bis 19:00 Uhr: Kunstallee (entlang des Hauptwegs vom 
 Teich zur Kirche)\n\nEintritt: frei
CATEGORIES:Feste/Feiern,Kunst &amp; Kultur
LOCATION:Dotfplatz\, .\, Stahnsdorf\, 14532\, Deutschland
X-APPLE-STRUCTURED-LOCATION;VALUE=URI;X-ADDRESS=.\, Stahnsdorf\, 14532\, De
 utschland;X-APPLE-RADIUS=100;X-TITLE=Dotfplatz:geo:0,0
END:VEVENT
BEGIN:VTIMEZONE
TZID:Europe/Berlin
X-LIC-LOCATION:Europe/Berlin
BEGIN:DAYLIGHT
DTSTART:20250330T030000
TZOFFSETFROM:+0100
TZOFFSETTO:+0200
TZNAME:CEST
END:DAYLIGHT
END:VTIMEZONE
END:VCALENDAR