BEGIN:VCALENDAR
VERSION:2.0
PRODID:-//wp-events-plugin.com//7.2.3.1//EN
TZID:Europe/Berlin
X-WR-TIMEZONE:Europe/Berlin
BEGIN:VEVENT
UID:18@tkszeit.de
DTSTART;TZID=Europe/Berlin:20250906T150000
DTEND;TZID=Europe/Berlin:20250906T235900
DTSTAMP:20250820T121531Z
URL:https://tkszeit.de/events/rock-am-kanal/
SUMMARY:Rock am Kanal
DESCRIPTION:Sieben Bands werden an diesem Tag den Stadthafen rocken!\nWeite
 re Infos auf der RaK-Website.\n\nEintritt\nKinder bis 14 Jahre: 0\,00 €\
 ,\nermäßigter Kulturbeitrag: 10\,00 € für Jugendliche (15 bis 18 Jahr
 e)\, Studenten\nund Menschen mit Behinderung (nach Vorlage eines Ausweises
 ).
CATEGORIES:Live-Konzert
LOCATION:Stadthafen Teltow\, Zeppelinufer 1\, Teltow\, 14513\, Deutschland
X-APPLE-STRUCTURED-LOCATION;VALUE=URI;X-ADDRESS=Zeppelinufer 1\, Teltow\, 1
 4513\, Deutschland;X-APPLE-RADIUS=100;X-TITLE=Stadthafen Teltow:geo:0,0
END:VEVENT
BEGIN:VTIMEZONE
TZID:Europe/Berlin
X-LIC-LOCATION:Europe/Berlin
BEGIN:DAYLIGHT
DTSTART:20250330T030000
TZOFFSETFROM:+0100
TZOFFSETTO:+0200
TZNAME:CEST
END:DAYLIGHT
END:VTIMEZONE
END:VCALENDAR