BEGIN:VCALENDAR
VERSION:2.0
PRODID:-//wp-events-plugin.com//7.2.3.1//EN
TZID:Europe/Berlin
X-WR-TIMEZONE:Europe/Berlin
BEGIN:VEVENT
UID:25@tkszeit.de
DTSTART;TZID=Europe/Berlin:20250914T100000
DTEND;TZID=Europe/Berlin:20250914T140000
DTSTAMP:20250825T165229Z
URL:https://tkszeit.de/events/radwandertour-denkmal-tour/
SUMMARY:Radwandertour: Denkmal-Tour
DESCRIPTION:Auf den Spuren der Geschichte\n\nMit Tourguide Oliver Pagels ge
 ht es über das Zeppelinufer und den Heinersdorfer Weg bis zu den Koppeln 
 und weiter über die Wiesen- und Parkstraße. Gut ausgebaute Radwege leite
 n vom Bahnhof Teltow bis zum Hasenlauf parallel zur L 76 und zur alten Lan
 dstraße. Es wird bis zur Dorfschmiede in Blankenfelde gefahren. Diese alt
 e Schmiede wurde etwa 1540 erbaut und ist das zweitälteste Gebäude im Or
 tsteil. Das denkmalgeschützte Gebäude wird erkundet. Außerdem besteht d
 ie Möglichkeit\, dem Schmied Fragen zu seiner Kunst zu stellen. Über Die
 dersdorf geht es zum Gedenkturm mit dem Museum zur Schlacht bei Großbeere
 n. Nach einem kurzen Stopp zur Besichtigung wird die Schinkelkirche in Gro
 ßbeeren erreicht. Die neugotische Kirche (1820) war ein Geschenk des preu
 ßischen Königs an die Bevölkerung\, als Dank für die siegreiche Schlac
 ht. Das Gelände der Schlacht von Großbeeren (1813) sowie die Bülowpyram
 ide werden passiert. Vom Bahnhof Teltow führt der Weg über die Richard-W
 agner-Straße und die Ruhlsdorfer Straße zurück zum Marktplatz.\n\nTreff
 punkt: Marktplatz\, 14513 Teltow (10 Uhr)\nKarten: 7 € (Tickets sind in 
 der Tourist Information\, Marktplatz 1-3\, oder online über teltow.de erh
 ältlich)\nKontakt: Tourist Information Teltow\, +49 3328 4781-293\, touri
 st-info@teltow.de
END:VEVENT
BEGIN:VTIMEZONE
TZID:Europe/Berlin
X-LIC-LOCATION:Europe/Berlin
BEGIN:DAYLIGHT
DTSTART:20250330T030000
TZOFFSETFROM:+0100
TZOFFSETTO:+0200
TZNAME:CEST
END:DAYLIGHT
END:VTIMEZONE
END:VCALENDAR