BEGIN:VCALENDAR
VERSION:2.0
PRODID:-//wp-events-plugin.com//7.2.3.1//EN
TZID:Europe/Berlin
X-WR-TIMEZONE:Europe/Berlin
BEGIN:VEVENT
UID:33@tkszeit.de
DTSTART;TZID=Europe/Berlin:20250909T190000
DTEND;TZID=Europe/Berlin:20250909T210000
DTSTAMP:20250830T084641Z
URL:https://tkszeit.de/events/podiumsdiskussion/
SUMMARY:Podiumsdiskussion
DESCRIPTION:Im Vorfeld der Bürgermeisterwahl 2025 treten die beiden Kandid
 aten – Claudia Eller-Funke (SPD) und André Freymuth (CDU) – in einer 
 öffentlichen Podiumsdiskussion unter dem Titel „Duell zur Wahl – Bür
 germeisterin/Bürgermeister 2025“ im Bürgerhaus Teltow gegeneinander an
 .\n\nDie Gäste erhalten zudem Gelegenheit\, die Bewerberin und den Bewerb
 er persönlich kennenzulernen\, ihre Vorstellungen für die Zukunft Teltow
 s zu hören und eigene Fragen einzubringen.\n\nDer Heimatverein Teltow e.V
 . moderiert die Diskussion neutral und unabhängig. Im Zentrum stehen Them
 en wie Stadtentwicklung\, Nachhaltigkeit\, Kultur\, Bürgerbeteiligung und
  die Zukunft unserer Stadt.
CATEGORIES:Politik
LOCATION:Bürgerhaus Teltow\, Ritterstraße 10\, Teltow\, 14513\, Deutschla
 nd
X-APPLE-STRUCTURED-LOCATION;VALUE=URI;X-ADDRESS=Ritterstraße 10\, Teltow\,
  14513\, Deutschland;X-APPLE-RADIUS=100;X-TITLE=Bürgerhaus Teltow:geo:0,0
END:VEVENT
BEGIN:VTIMEZONE
TZID:Europe/Berlin
X-LIC-LOCATION:Europe/Berlin
BEGIN:DAYLIGHT
DTSTART:20250330T030000
TZOFFSETFROM:+0100
TZOFFSETTO:+0200
TZNAME:CEST
END:DAYLIGHT
END:VTIMEZONE
END:VCALENDAR