BEGIN:VCALENDAR
VERSION:2.0
PRODID:-//wp-events-plugin.com//7.2.3.1//EN
TZID:Europe/Berlin
X-WR-TIMEZONE:Europe/Berlin
BEGIN:VEVENT
UID:56@tkszeit.de
DTSTART;TZID=Europe/Berlin:20260426T100000
DTEND;TZID=Europe/Berlin:20260426T110000
DTSTAMP:20260425T090855Z
URL:https://tkszeit.de/events/pflanzung-baum-des-jahres-2026/
SUMMARY:Pflanzung „Baum des Jahres 2026“
DESCRIPTION:Anlässlich des „Tag des Baumes“\, der jährlich am 25. Apr
 il begangen wird\, wird auf der „Allee der Bäume“ eine Zitterpappel g
 epflanzt.\n\nVeranstaltungsort:\nBeethovenstraße (Zugang über Carl-Orff-
 Straße\, neben Kita „Sonnenblume“)\, 14513 Teltow\n\nVeranstalter:\nI
 nitiativgruppe "Allee der Bäume“
CATEGORIES:Natur
END:VEVENT
BEGIN:VTIMEZONE
TZID:Europe/Berlin
X-LIC-LOCATION:Europe/Berlin
BEGIN:DAYLIGHT
DTSTART:20260329T030000
TZOFFSETFROM:+0100
TZOFFSETTO:+0200
TZNAME:CEST
END:DAYLIGHT
END:VTIMEZONE
END:VCALENDAR