BEGIN:VCALENDAR
VERSION:2.0
PRODID:-//wp-events-plugin.com//7.2.3.1//EN
TZID:Europe/Berlin
X-WR-TIMEZONE:Europe/Berlin
BEGIN:VEVENT
UID:31@tkszeit.de
DTSTART;TZID=Europe/Berlin:20250907T160000
DTEND;TZID=Europe/Berlin:20250907T180000
DTSTAMP:20250825T203258Z
URL:https://tkszeit.de/events/neue-ausstellung-im-landarbeiterhaus/
SUMMARY:Neue Ausstellung im Landarbeiterhaus
DESCRIPTION:Kunstverein "Die Brücke Kleinmachnow e. V." - Vernissage\n\nTa
 mara Ivanova | Grafik + Kathrin Schwarz | Plastik/Grafik\n\nKathrin Schwar
 z absolvierte die Kunsthochschule Halle Burg Giebichenstein und lebt bei H
 annover. Meine Bildwelt bewegt sich zwischen Nachdenklichkeit und feiner I
 ronie. Vertraute Elemente erscheinen darin wie aus der Wirklichkeit gelös
 t\, um in verfremdeter Gestalt neue Bedeutungen anzunehmen. Die Titel mein
 er Werke wirken wie leise gesetzte Wegmarken sie weisen Richtungen\, ohne 
 den Betrachtenden seiner eigenen Deutungen zu berauben.\n\nTamara Ivanova 
 stammt aus Georgien\, studierte Kunst in Moskau und lebt seit drei Jahrzeh
 nten in Berlin. Sie wird grafische Objekte\, Malerei und Künstlerbücher 
 aus der Serie Faltenstadt\, einer vielschichtigen Reflexion über das urba
 ne Leben und den ständigen Wandel der Hauptstadt präsentieren.\n\nAusste
 llung: 7. September bis 5. Oktober 2025 | samstags und sonntags\, 14:00 -1
 8:00 Uhr
CATEGORIES:Ausstellung
LOCATION:Landarbeiterhaus (Z200)\, Zehlendorfer Damm 200\, Kleinmachnow\, 1
 4532\, Deutschland
X-APPLE-STRUCTURED-LOCATION;VALUE=URI;X-ADDRESS=Zehlendorfer Damm 200\, Kle
 inmachnow\, 14532\, Deutschland;X-APPLE-RADIUS=100;X-TITLE=Landarbeiterhau
 s (Z200):geo:0,0
END:VEVENT
BEGIN:VTIMEZONE
TZID:Europe/Berlin
X-LIC-LOCATION:Europe/Berlin
BEGIN:DAYLIGHT
DTSTART:20250330T030000
TZOFFSETFROM:+0100
TZOFFSETTO:+0200
TZNAME:CEST
END:DAYLIGHT
END:VTIMEZONE
END:VCALENDAR