BEGIN:VCALENDAR
VERSION:2.0
PRODID:-//wp-events-plugin.com//7.2.3.1//EN
TZID:Europe/Berlin
X-WR-TIMEZONE:Europe/Berlin
BEGIN:VEVENT
UID:24@tkszeit.de
DTSTART;TZID=Europe/Berlin:20250911T100000
DTEND;TZID=Europe/Berlin:20250911T120000
DTSTAMP:20250825T164606Z
URL:https://tkszeit.de/events/kraeuterfuehrung/
SUMMARY:Kräuterführung
DESCRIPTION:Der perfekte Einstieg in die Welt der Wildkräuter - eine exklu
 sive Führung mit der Kräuterpädagogin Heidi Knappe.\n\nTreffpunkt: Mark
 tplatz\, 14513 Teltow\nKarten: 5 €\n(Tickets sind in der Tourist Informa
 tion\, Marktplatz 1-3\, oder online über teltow.de erhältlich)\nKontakt:
  Tourist Information Teltow\,\nTel.: +49 3328 4781-293\nE-Mail: tourist-in
 fo@teltow.de
END:VEVENT
BEGIN:VTIMEZONE
TZID:Europe/Berlin
X-LIC-LOCATION:Europe/Berlin
BEGIN:DAYLIGHT
DTSTART:20250330T030000
TZOFFSETFROM:+0100
TZOFFSETTO:+0200
TZNAME:CEST
END:DAYLIGHT
END:VTIMEZONE
END:VCALENDAR