BEGIN:VCALENDAR
VERSION:2.0
PRODID:-//wp-events-plugin.com//7.2.3.1//EN
TZID:Europe/Berlin
X-WR-TIMEZONE:Europe/Berlin
BEGIN:VEVENT
UID:53@tkszeit.de
DTSTART;TZID=Europe/Berlin:20260211T200000
DTEND;TZID=Europe/Berlin:20260211T220000
DTSTAMP:20260201T163713Z
URL:https://tkszeit.de/events/kleinmachnow-singt/
SUMMARY:Kleinmachnow singt
DESCRIPTION:Manche nennen es Rudelsingen\, andere nennen es freier Chor.\nA
 uf jeden Fall sind es zwei Stunden gute Laune.\nSingen macht Spaß und gl
 ücklich. Singen Sie doch mal mit.\n\nTickets an der Abendkasse
CATEGORIES:Mitsingkonzert
LOCATION:Neue Kammerspiele Kleinmachnow\, Karl-Marx-Straße 18\, Kleinmachn
 ow\, 14532\, Deutschland
X-APPLE-STRUCTURED-LOCATION;VALUE=URI;X-ADDRESS=Karl-Marx-Straße 18\, Klei
 nmachnow\, 14532\, Deutschland;X-APPLE-RADIUS=100;X-TITLE=Neue Kammerspiel
 e Kleinmachnow:geo:0,0
END:VEVENT
BEGIN:VTIMEZONE
TZID:Europe/Berlin
X-LIC-LOCATION:Europe/Berlin
BEGIN:STANDARD
DTSTART:20251026T020000
TZOFFSETFROM:+0200
TZOFFSETTO:+0100
TZNAME:CET
END:STANDARD
END:VTIMEZONE
END:VCALENDAR