BEGIN:VCALENDAR
VERSION:2.0
PRODID:-//wp-events-plugin.com//7.2.3.1//EN
TZID:Europe/Berlin
X-WR-TIMEZONE:Europe/Berlin
BEGIN:VEVENT
UID:23@tkszeit.de
DTSTART;TZID=Europe/Berlin:20250912T180000
DTEND;TZID=Europe/Berlin:20250912T220000
DTSTAMP:20250825T164020Z
URL:https://tkszeit.de/events/irischer-abend/
SUMMARY:Irischer Abend
DESCRIPTION:„finest irish folk &amp\; celtic music“ mit „The Sandsac
 ks"\n\nAußerdem:\n- „Showdance Kurrat“\n- landestypisches Bier und Le
 ckeres vom Grill\n\nHinweis:\nAufgrund der Veranstaltung kommt es im Zeitr
 aum vom 12. September um 7 Uhr bis zum 13. September 2025 um 12 Uhr zur Vo
 llsperrung der Altstadt Teltow.\nIn der Zeit vom 12.09.2025 \, 7 - 17 Uhr 
 sowie von 22:30 Uhr bis 13.9.2025\, 12 Uhr\,\nist die Ein- und Ausfahrt in
  die Altstadt nur über die Badstraße möglich.\nAm 12.09.2025\, 17 bis 2
 2:30 Uhr\, ist die dortige Zufahrt ausschließlich für Eildienste möglic
 h.
CATEGORIES:Live-Konzert
END:VEVENT
BEGIN:VTIMEZONE
TZID:Europe/Berlin
X-LIC-LOCATION:Europe/Berlin
BEGIN:DAYLIGHT
DTSTART:20250330T030000
TZOFFSETFROM:+0100
TZOFFSETTO:+0200
TZNAME:CEST
END:DAYLIGHT
END:VTIMEZONE
END:VCALENDAR