BEGIN:VCALENDAR
VERSION:2.0
PRODID:-//wp-events-plugin.com//7.2.3.1//EN
TZID:Europe/Berlin
X-WR-TIMEZONE:Europe/Berlin
BEGIN:VEVENT
UID:58@tkszeit.de
DTSTART;TZID=Europe/Berlin:20260426T120000
DTEND;TZID=Europe/Berlin:20260426T180000
DTSTAMP:20260425T092020Z
URL:https://tkszeit.de/events/fruehlingsmarkt/
SUMMARY:Frühlingsmarkt …
DESCRIPTION:… an der Waldschänke mit Infos und Staudentausch\n\nStaudent
 ausch\, Beratung und Infos gibt es am Stand des Stahnsdorfer Gartenfestiva
 ls beim Frühlingsmarkt der Waldschänke:\nVon Taglilie bis Wiesenknöteri
 ch – viele Gartenpflanzen bewachsen mit der Zeit größere Flächen und 
 können im Frühjahr oder Herbst geteilt werden. Sie zu teilen und mit and
 eren zu tauschen ist nachhaltig und günstig. Blühteam Stahnsdorf und Sta
 hnsdorfer Gartenfestival informieren an ihrem Stand über offene Gärten u
 nd Aktionen\, geben kostenfreie Gartenberatung und laden zum Staudentausch
  ein. Darüber\, was wir für den heimischen Braunbrustigel in unseren Gä
 rten tun können\, informiert die Interessengemeinschaft zum Schutz der Ig
 el in TKS.\nStauden aus dem eigenen Garten\, Saatgut oder Jungpflanzen kö
 nnen gern zum Tausch mitgebracht werden.
CATEGORIES:Markt
LOCATION:Marktplatz Waldschänke\, Wannseestraße 21\, Stahnsdorf\, 14532\,
  Deutschland
X-APPLE-STRUCTURED-LOCATION;VALUE=URI;X-ADDRESS=Wannseestraße 21\, Stahnsd
 orf\, 14532\, Deutschland;X-APPLE-RADIUS=100;X-TITLE=Marktplatz Waldschän
 ke:geo:0,0
END:VEVENT
BEGIN:VTIMEZONE
TZID:Europe/Berlin
X-LIC-LOCATION:Europe/Berlin
BEGIN:DAYLIGHT
DTSTART:20260329T030000
TZOFFSETFROM:+0100
TZOFFSETTO:+0200
TZNAME:CEST
END:DAYLIGHT
END:VTIMEZONE
END:VCALENDAR