BEGIN:VCALENDAR
VERSION:2.0
PRODID:-//wp-events-plugin.com//7.2.3.1//EN
TZID:Europe/Berlin
X-WR-TIMEZONE:Europe/Berlin
BEGIN:VEVENT
UID:51@tkszeit.de
DTSTART;TZID=Europe/Berlin:20260207T110000
DTEND;TZID=Europe/Berlin:20260207T130000
DTSTAMP:20260201T162920Z
URL:https://tkszeit.de/events/friedhofsfuehrung/
SUMMARY:Friedhofsführung
DESCRIPTION:Beitrag: 8 Euro\nWeitere Informationen finden Sie hier.
CATEGORIES:Führung
LOCATION:Südwestkirchhof Stahnsdorf\, Bahnhofstraße 2\, Stahnsdorf\, 1453
 2\, Deutschland
X-APPLE-STRUCTURED-LOCATION;VALUE=URI;X-ADDRESS=Bahnhofstraße 2\, Stahnsdo
 rf\, 14532\, Deutschland;X-APPLE-RADIUS=100;X-TITLE=Südwestkirchhof Stahn
 sdorf:geo:0,0
END:VEVENT
BEGIN:VTIMEZONE
TZID:Europe/Berlin
X-LIC-LOCATION:Europe/Berlin
BEGIN:STANDARD
DTSTART:20251026T020000
TZOFFSETFROM:+0200
TZOFFSETTO:+0100
TZNAME:CET
END:STANDARD
END:VTIMEZONE
END:VCALENDAR