BEGIN:VCALENDAR
VERSION:2.0
PRODID:-//wp-events-plugin.com//7.2.3.1//EN
TZID:Europe/Berlin
X-WR-TIMEZONE:Europe/Berlin
BEGIN:VEVENT
UID:35@tkszeit.de
DTSTART;TZID=Europe/Berlin:20250905T140000
DTEND;TZID=Europe/Berlin:20250905T160000
DTSTAMP:20250830T090744Z
URL:https://tkszeit.de/events/freytagtour/
SUMMARY:FreytagTour
DESCRIPTION:Freytag mit Freymuth!\n\nAm Freitag\, 5.9.2025\, 14-16 Uhr\, st
 ellt sich Bürgermeisterkandidat André Freymuth den Fragen der Teltower B
 ürgerinnen und Bürger.\n\nOrt: S-Bahnhof Teltow Stadt
CATEGORIES:Politik
END:VEVENT
BEGIN:VTIMEZONE
TZID:Europe/Berlin
X-LIC-LOCATION:Europe/Berlin
BEGIN:DAYLIGHT
DTSTART:20250330T030000
TZOFFSETFROM:+0100
TZOFFSETTO:+0200
TZNAME:CEST
END:DAYLIGHT
END:VTIMEZONE
END:VCALENDAR