BEGIN:VCALENDAR
VERSION:2.0
PRODID:-//wp-events-plugin.com//7.2.3.1//EN
TZID:Europe/Berlin
X-WR-TIMEZONE:Europe/Berlin
BEGIN:VEVENT
UID:61@tkszeit.de
DTSTART;TZID=Europe/Berlin:20260501T100000
DTEND;TZID=Europe/Berlin:20260501T180000
DTSTAMP:20260425T093604Z
URL:https://tkszeit.de/events/fest-fuer-demokratie-und-vielfalt-in-tks/
SUMMARY:Fest für Demokratie und Vielfalt in TKS
DESCRIPTION:... vielfältiges und lebendiges Programm für alle Generatione
 n\,Auch für das leibliche Wohl ist bestens gesorgt
CATEGORIES:Feste/Feiern
LOCATION:August-Mattausch-Park\, August-Mattausch-Park\, Teltow\, Deutschla
 nd
X-APPLE-STRUCTURED-LOCATION;VALUE=URI;X-ADDRESS=August-Mattausch-Park\, Tel
 tow\, Deutschland;X-APPLE-RADIUS=100;X-TITLE=August-Mattausch-Park:geo:0,0
END:VEVENT
BEGIN:VTIMEZONE
TZID:Europe/Berlin
X-LIC-LOCATION:Europe/Berlin
BEGIN:DAYLIGHT
DTSTART:20260329T030000
TZOFFSETFROM:+0100
TZOFFSETTO:+0200
TZNAME:CEST
END:DAYLIGHT
END:VTIMEZONE
END:VCALENDAR