BEGIN:VCALENDAR
VERSION:2.0
PRODID:-//wp-events-plugin.com//7.2.3.1//EN
TZID:Europe/Berlin
X-WR-TIMEZONE:Europe/Berlin
BEGIN:VEVENT
UID:29@tkszeit.de
DTSTART;TZID=Europe/Berlin:20250927T110000
DTEND;TZID=Europe/Berlin:20250927T180000
DTSTAMP:20250825T201615Z
URL:https://tkszeit.de/events/einweihungsfeier-der-neuen-feuerwache/
SUMMARY:Einweihungsfeier der neuen Feuerwache
DESCRIPTION:Öffentliche Einweihungsfeier in der Feuerwache Stahnsdorf
CATEGORIES:Feste/Feiern
LOCATION:Feuerwache\, Annastr. 5\, Stahnsdorf\, 14532\, Deutschland
X-APPLE-STRUCTURED-LOCATION;VALUE=URI;X-ADDRESS=Annastr. 5\, Stahnsdorf\, 1
 4532\, Deutschland;X-APPLE-RADIUS=100;X-TITLE=Feuerwache:geo:0,0
END:VEVENT
BEGIN:VTIMEZONE
TZID:Europe/Berlin
X-LIC-LOCATION:Europe/Berlin
BEGIN:DAYLIGHT
DTSTART:20250330T030000
TZOFFSETFROM:+0100
TZOFFSETTO:+0200
TZNAME:CEST
END:DAYLIGHT
END:VTIMEZONE
END:VCALENDAR