BEGIN:VCALENDAR
VERSION:2.0
PRODID:-//wp-events-plugin.com//7.2.3.1//EN
TZID:Europe/Berlin
X-WR-TIMEZONE:Europe/Berlin
BEGIN:VEVENT
UID:54@tkszeit.de
DTSTART;TZID=Europe/Berlin:20260219T200000
DTEND;TZID=Europe/Berlin:20260219T213000
DTSTAMP:20260201T164544Z
URL:https://tkszeit.de/events/doppellesung/
SUMMARY:Doppellesung
DESCRIPTION:Die Autoren Manfred Suttinger und Hellmuth Henneberg arbeiteten
  beide jahrzehntelang beim rbb-Fernsehen.\nSeit sie Rentner sind\, schreib
 en und veröffentlichen sie Bücher. Zum ersten Mal lesen sie gemeinsam ih
 re vergnüglichen Geschichten.\nEintritt: 15 €
CATEGORIES:Lesung
LOCATION:Neue Kammerspiele Kleinmachnow\, Karl-Marx-Straße 18\, Kleinmachn
 ow\, 14532\, Deutschland
X-APPLE-STRUCTURED-LOCATION;VALUE=URI;X-ADDRESS=Karl-Marx-Straße 18\, Klei
 nmachnow\, 14532\, Deutschland;X-APPLE-RADIUS=100;X-TITLE=Neue Kammerspiel
 e Kleinmachnow:geo:0,0
END:VEVENT
BEGIN:VTIMEZONE
TZID:Europe/Berlin
X-LIC-LOCATION:Europe/Berlin
BEGIN:STANDARD
DTSTART:20251026T020000
TZOFFSETFROM:+0200
TZOFFSETTO:+0100
TZNAME:CET
END:STANDARD
END:VTIMEZONE
END:VCALENDAR