BEGIN:VCALENDAR
VERSION:2.0
PRODID:-//wp-events-plugin.com//7.2.3.1//EN
TZID:Europe/Berlin
X-WR-TIMEZONE:Europe/Berlin
BEGIN:VEVENT
UID:12@tkszeit.de
DTSTART;TZID=Europe/Berlin:20250809T100000
DTEND;TZID=Europe/Berlin:20250809T120000
DTSTAMP:20250808T080709Z
URL:https://tkszeit.de/events/altstadtfuehrung/
SUMMARY:Altstadtführung
DESCRIPTION:Geschichten und Geschichte mit Hermann Lamprecht (Änderungen v
 orbehalten) bei einem Spaziergang durch Teltows Altstadt erleben.\nDie Tei
 lnahme ist kostenfrei\, Spenden sind erwünscht.\n\nTreffpunkt: Ruhlsdorfe
 r Platz/Ecke Berliner Straße neben Café DREIKÄSEHOCH\n\nVeranstalter:\n
 Heimatverein Stadt Teltow 1990 e.V.
END:VEVENT
BEGIN:VTIMEZONE
TZID:Europe/Berlin
X-LIC-LOCATION:Europe/Berlin
BEGIN:DAYLIGHT
DTSTART:20250330T030000
TZOFFSETFROM:+0100
TZOFFSETTO:+0200
TZNAME:CEST
END:DAYLIGHT
END:VTIMEZONE
END:VCALENDAR