BEGIN:VCALENDAR
VERSION:2.0
PRODID:-//wp-events-plugin.com//7.2.3.1//EN
TZID:Europe/Berlin
X-WR-TIMEZONE:Europe/Berlin
BEGIN:VEVENT
UID:40@tkszeit.de
DTSTART;TZID=Europe/Berlin:20250928T100000
DTEND;TZID=Europe/Berlin:20250928T130000
DTSTAMP:20250917T185218Z
URL:https://tkszeit.de/events/18-nordahl-grieg-gedenklauf/
SUMMARY:18. Nordahl-Grieg-Gedenklauf
DESCRIPTION:Telefon: +49 33203 877 4600\nE-Mail: maxim-gorki-gesamtschule@k
 leinmachnow.de\n\nTeilnahmegebühr:\nErwachsene: 10\,- € pro Person\; Ki
 nder und Jugendliche (bis 19 Jahre) 3\,- € pro Person\;\nBAMBINI kein St
 artgeld\n\nDer Lauf ist Teil des Brandenburg-Cups und zählt somit zu eine
 r der offiziellen Wertungsveranstaltungen für die regionale Laufserie.\n\
 nOb jung oder alt – im Ziel erwartet jede Teilnehmerin und jeden Teilneh
 mer eine Erinnerungsmedaille sowie eine Urkunde als Anerkennung für das D
 urchhaltevermögen und die Teilnahme an dieser besonderen Gedenkveranstalt
 ung.\n\nEin besonderer Dank gilt der Gemeinde Kleinmachnow\, die diesen La
 uf seit vielen Jahren engagiert unterstützt.\nSchirmherrschaft: Bürgerme
 ister Bodo Krause sowie die norwegische Botschafterin Laila Stenseng.
CATEGORIES:Sport
LOCATION:Maxim-Gorki-Gesamtschule\, Förster-Funke-Allee 106\, Kleinmachnow
 \, 14532\, Deutschland
X-APPLE-STRUCTURED-LOCATION;VALUE=URI;X-ADDRESS=Förster-Funke-Allee 106\, 
 Kleinmachnow\, 14532\, Deutschland;X-APPLE-RADIUS=100;X-TITLE=Maxim-Gorki-
 Gesamtschule:geo:0,0
END:VEVENT
BEGIN:VTIMEZONE
TZID:Europe/Berlin
X-LIC-LOCATION:Europe/Berlin
BEGIN:DAYLIGHT
DTSTART:20250330T030000
TZOFFSETFROM:+0100
TZOFFSETTO:+0200
TZNAME:CEST
END:DAYLIGHT
END:VTIMEZONE
END:VCALENDAR